BEGIN:VCALENDAR
VERSION:2.0
METHOD:PUBLISH
PRODID:-//hacksw/handcal//NONSGML v1.0//EN
BEGIN:VEVENT
DTSTAMP:20260423T111829Z
DTSTART:20211002T133000Z
DTEND:20211003T035900Z
UID:20211002T133000Z-20211003T035900Z-458@akronago.org
SUMMARY:Hudson Organ Day
DESCRIPTION:Hudson Organ Day\nSaturday\, October 2\n \nBegins at 9:30a
 m at Christ Church Episcopal\,\n21 Aurora St\, Hudson (Noack organ)\;\
 nfollowed by First Congregational Church\n(next door at 47 Aurora St\,
  with a Wilhelm organ)\n \nThe first demonstration will begin at 10am.
 \n \nDemonstrations and open console time\nwill be provided at each ve
 nue.\n \nOptional lunch/shop in downtown Hudson\nfollowing the demonst
 rations.
X-ALT-DESC;FMTTYPE=text/html:<div class=page-restrict-output><h2><b><s
 pan style=color: #ff2d22\;font-family: Verdana\, sans-serif>Hudson Org
 an Day</span></b></h2>\n<div><b><span style=color: #165878\;font-famil
 y: Verdana\, sans-serif>Saturday\, October 2</span></b></div>\n<div><b
 ><span style=color: #165878\;font-family: Verdana\, sans-serif> </span
 ></b></div>\n<div><span style=color: #165878\;font-family: Verdana\, s
 ans-serif>Begins at 9:30am at <b>Christ Church Episcopal</b>\,</span><
 /div>\n<div><span style=color: #165878\;font-family: Verdana\, sans-se
 rif>21 Aurora St\, Hudson (Noack organ)\;</span></div>\n<div><span sty
 le=color: #165878\;font-family: Verdana\, sans-serif>followed by<b> Fi
 rst Congregational Church</b></span></div>\n<div><span style=color: #1
 65878\;font-family: Verdana\, sans-serif>(next door at 47 Aurora St\, 
 with a Wilhelm organ)</span></div>\n<div><span style=color: #165878\;f
 ont-family: Verdana\, sans-serif> </span></div>\n<div><span style=colo
 r: #165878\;font-family: Verdana\, sans-serif>The first demonstration 
 will begin at 10am.</span></div>\n<div><span style=color: #165878\;fon
 t-family: Verdana\, sans-serif> </span></div>\n<div><span style=color:
  #165878\;font-family: Verdana\, sans-serif>Demonstrations and open co
 nsole time</span></div>\n<div><span style=color: #165878\;font-family:
  Verdana\, sans-serif>will be provided at each venue.</span></div>\n<d
 iv><span style=color: #165878\;font-family: Verdana\, sans-serif> </sp
 an></div>\n<div><span style=color: #165878\;font-family: Verdana\, san
 s-serif>Optional lunch/shop in downtown Hudson</span></div>\n<div><spa
 n style=color: #165878\;font-family: Verdana\, sans-serif>following th
 e demonstrations.</span></div>\n</div>
URL:https://akronago.org/events/hudson-organ-day/?lang=en
ATTACH:https://akronago.org/events/hudson-organ-day/?lang=en
ATTACH:https://akronago.org/wp-content/uploads/husdon_organs1-150x150.
 png
LOCATION:Christ Church Episcopal (Hudson)\, 21 Aurora St\, Hudson
END:VEVENT
END:VCALENDAR
