BEGIN:VCALENDAR
VERSION:2.0
METHOD:PUBLISH
PRODID:-//hacksw/handcal//NONSGML v1.0//EN
BEGIN:VEVENT
DTSTAMP:20260423T111726Z
DTSTART:20210912T200000Z
DTEND:20210913T035900Z
UID:20210912T200000Z-20210913T035900Z-457@akronago.org
SUMMARY:Potluck Dinner
DESCRIPTION:Potluck Dinner\nSunday\, September 12 at 4pm\n \nForest Lo
 dge Community Center\n260 Greenwood Ave\, Akron\n \nPlease bring a dis
 h to share.\nLast names A–G\, bring a side dish\nLast names H-Z\, brin
 g a dessert\n \nMeat & paper products will be provided by the chapter.
X-ALT-DESC;FMTTYPE=text/html:<div class=page-restrict-output><h2><span
  style=color: #ff2d22>Potluck Dinner</span></h2>\n<div><b><span style=
 color: #165878\;font-family: Verdana\, sans-serif>Sunday\, September 1
 2 at 4pm</span></b></div>\n<div><span style=font-family: Verdana\, san
 s-serif> </span></div>\n<div><b><span style=color: #165878\;font-famil
 y: Verdana\, sans-serif>Forest Lodge Community Center</span></b></div>
 \n<div><b><span style=color: #165878\;font-family: Verdana\, sans-seri
 f>260 Greenwood Ave\, Akron</span></b></div>\n<div><b><span style=font
 -family: Verdana\, sans-serif> </span></b></div>\n<div><b><span style=
 color: #ff2d22\;font-family: Verdana\, sans-serif><i>Please bring a di
 sh to share.</i></span></b></div>\n<div><span style=color: #6b2185\;fo
 nt-family: Verdana\, sans-serif>Last names A–G\, bring a side dish</sp
 an></div>\n<div><span style=color: #6b2185\;font-family: Verdana\, san
 s-serif>Last names H-Z\, bring a dessert</span></div>\n<div><span styl
 e=font-family: Verdana\, sans-serif> </span></div>\n<div><i><span styl
 e=color: #165878\;font-family: Verdana\, sans-serif>Meat &amp\; paper 
 products will be provided by the chapter.</span></i></div>\n</div>
URL:https://akronago.org/events/potluck-dinner/?lang=en
ATTACH:https://akronago.org/events/potluck-dinner/?lang=en
ATTACH:https://akronago.org/wp-content/uploads/forest_lodge-150x150.jp
 g
LOCATION:Forest Lodge Community Center\, 260 Greenwood Ave\, Akron
END:VEVENT
END:VCALENDAR
