BEGIN:VCALENDAR
VERSION:2.0
METHOD:PUBLISH
PRODID:-//hacksw/handcal//NONSGML v1.0//EN
BEGIN:VEVENT
DTSTAMP:20260423T111905Z
DTSTART:20210307T190000Z
DTEND:20210308T035959Z
UID:20210307T190000Z-20210308T035959Z-456@akronago.org
SUMMARY:Student Recital via Live Stream
DESCRIPTION:Our 2020 Scholarship recipients\, Nicholas Stackpole and D
 aniel Colaner\, will present a recital\, live streamed from Fairlawn L
 utheran Church. The program is available at https://akronago.org/2020-
 scholarship-program/ Links to the live stream will be given here\, so 
 be sure to check back.
X-ALT-DESC;FMTTYPE=text/html:<div class=page-restrict-output><p>Our 20
 20 Scholarship recipients\, Nicholas Stackpole and Daniel Colaner\, wi
 ll present a recital\, live streamed from Fairlawn Lutheran Church. Th
 e program is available at <a href=https://akronago.org/2020-scholarshi
 p-program/>https://akronago.org/2020-scholarship-program/</a> Links to
  the live stream will be given here\, so be sure to check back.</p>\n<
 /div>
URL:https://akronago.org/events/student-recital-via-live-stream/?lang=
 en
ATTACH:https://akronago.org/events/student-recital-via-live-stream/?la
 ng=en
END:VEVENT
END:VCALENDAR
