BEGIN:VCALENDAR
VERSION:2.0
METHOD:PUBLISH
PRODID:-//hacksw/handcal//NONSGML v1.0//EN
BEGIN:VEVENT
DTSTAMP:20260423T111655Z
DTSTART:20201004T200000Z
DTEND:20201004T235200Z
UID:20201004T200000Z-20201004T235200Z-455@akronago.org
SUMMARY:Christa Rakich (in-person or live stream)
DESCRIPTION:Christa Rakich appears in concert at Holy Trinity Lutheran
  Church in downtown Akron on October 4\, an event which will be offere
 d both in-person and via live stream. Visit artsholytrinity.org for up
 -to-date details\, protocols\, and programs. (Programs will not be ava
 ilable in print on site. Bring your own printed copy or access it on y
 our favorite device.)
X-ALT-DESC;FMTTYPE=text/html:<div class=page-restrict-output><p><stron
 g>Christa Rakich</strong> appears in concert at Holy Trinity Lutheran 
 Church in downtown Akron on October 4\, an event which will be offered
  both in-person and via live stream. Visit <a href=https://www.artshol
 ytrinity.org>artsholytrinity.org</a> for up-to-date details\, protocol
 s\, and programs. (Programs will not be available in print on site. Br
 ing your own printed copy or access it on your favorite device.)</p>\n
 </div>
URL:https://akronago.org/events/455/christa-rakich-in-person-or-live-s
 tream/?lang=en
ATTACH:https://akronago.org/events/455/christa-rakich-in-person-or-liv
 e-stream/?lang=en
ATTACH:https://akronago.org/wp-content/uploads/rakich_tb-150x150.png
END:VEVENT
END:VCALENDAR
