BEGIN:VCALENDAR
VERSION:2.0
METHOD:PUBLISH
PRODID:-//hacksw/handcal//NONSGML v1.0//EN
BEGIN:VEVENT
DTSTAMP:20260423T111826Z
DTSTART:20201003T143000Z
DTEND:20201003T234700Z
UID:20201003T143000Z-20201003T234700Z-454@akronago.org
SUMMARY:Christa Rakich Workshop (via Zoom only)
DESCRIPTION:Renowned organist Christa Rakich will present a workshop a
 t 10:30 a.m. (Eastern) on Saturday\, October 3 exclusively over Zoom\,
  broadcast from Holy Trinity Lutheran Church in downtown Akron\, Ohio.
  The workshop will center around hymn-based improvisation\, harmonizat
 ion\, interludes\, introductions\, etc. Ms. Rakich will offer video de
 monstrations and time for questions and comments.\n\nThe workshop will
  be an hour long.\n\nWhile the workshop is free\, registration is requ
 ired via the form below. Upon submission\, a Zoom link to the workshop
  will be sent to the registrant via email.\n\nThis event is co-sponsor
 ed by the Akron Chapter of the American Guild of Organists and Leek Pi
 pe Organ Company.
X-ALT-DESC;FMTTYPE=text/html:<div class=page-restrict-output><p>Renown
 ed organist <strong><a href=http://christarakich.com/about-english/ re
 l=noopener noreferrer target=_blank>Christa Rakich</a></strong> will p
 resent a workshop at 10:30 a.m. (Eastern) on Saturday\, October 3 excl
 usively over Zoom\, broadcast from <a href=https://www.holytrinityakro
 n.org rel=noopener noreferrer target=_blank>Holy Trinity Lutheran Chur
 ch</a> in downtown Akron\, Ohio. The workshop will center around hymn-
 based improvisation\, harmonization\, interludes\, introductions\, etc
 . Ms. Rakich will offer video demonstrations and time for questions an
 d comments.</p>\n<p>The workshop will be an hour long.</p>\n<p>While t
 he workshop is free\, registration is required via the form below. Upo
 n submission\, a Zoom link to the workshop will be sent to the registr
 ant via email.</p>\n<p><em><strong><span style=color: #ff0000\;>This e
 vent is co-sponsored by the Akron Chapter of the American Guild of Org
 anists and Leek Pipe Organ Company.</strong></span></em></p>\n</div>
URL:https://akronago.org/events/454/christa-rakich-workshop-via-zoom-o
 nly/?lang=en
ATTACH:https://akronago.org/events/454/christa-rakich-workshop-via-zoo
 m-only/?lang=en
ATTACH:https://akronago.org/wp-content/uploads/rakich_tb-150x150.png
LOCATION:Holy Trinity Lutheran (Akron)\, 50 North Prospect St\, Akron
END:VEVENT
END:VCALENDAR
