BEGIN:VCALENDAR
VERSION:2.0
METHOD:PUBLISH
PRODID:-//hacksw/handcal//NONSGML v1.0//EN
BEGIN:VEVENT
DTSTAMP:20260423T111825Z
DTSTART:20200216T190000Z
DTEND:20200217T023500Z
UID:20200216T190000Z-20200217T023500Z-453@akronago.org
SUMMARY:Members' Recital
DESCRIPTION:Members of our Chapter will perform in concert at First Un
 ited Methodist Church in Cuyahoga Falls on Sunday\, February 16th at 3
  pm. In addition to our host\, Dean Wagner\, Andrea Alexander\, Dawn F
 iller\, Chad Pittman\, and Carolyn Wallace will present a varied progr
 am on the refurbished organ in First Church’s newly renovated worship 
 space. Plan to attend and support our colleagues. All are invited to t
 his free concert.\n 	\nQuestions? Contact our Sub Dean\, Jim Storry: ?
 330-524-2027? or jdstorry@roadrunner.com
X-ALT-DESC;FMTTYPE=text/html:<div class=page-restrict-output><p>Member
 s of our Chapter will perform in concert at First United Methodist Chu
 rch in Cuyahoga Falls on Sunday\, February 16th at 3 pm. In addition t
 o our host\, Dean Wagner\, Andrea Alexander\, Dawn Filler\, Chad Pittm
 an\, and Carolyn Wallace will present a varied program on the refurbis
 hed organ in First Church’s newly renovated worship space. Plan to att
 end and support our colleagues. All are invited to this free concert.<
 /p>\n<p>Questions? Contact our Sub Dean\, Jim Storry: ?330-524-2027? o
 r &#x6a\;&#100\;s&#x74\;&#111\;r&#x72\;&#x79\;&#64\;&#x72\;&#x6f\;&#97
 \;d&#x72\;&#117\;n&#x6e\;&#x65\;&#114\;&#x2e\;&#x63\;&#111\;m</p>\n</d
 iv>
URL:https://akronago.org/events/453/members-recital/?lang=en
ATTACH:https://akronago.org/events/453/members-recital/?lang=en
ATTACH:https://akronago.org/wp-content/uploads/first_umeth_cuyahoga_fa
 lls-150x150.jpg
LOCATION:First U Methodist (Cuyahoga Falls)\, 245 Portage Trail\, Cuya
 hoga Falls
END:VEVENT
END:VCALENDAR
