BEGIN:VCALENDAR
VERSION:2.0
METHOD:PUBLISH
PRODID:-//hacksw/handcal//NONSGML v1.0//EN
BEGIN:VEVENT
DTSTAMP:20260423T111657Z
DTSTART:20191206T233000Z
DTEND:20191207T000800Z
UID:20191206T233000Z-20191207T000800Z-452@akronago.org
SUMMARY:Advent Procession of Lessons & Carols
DESCRIPTION:Musicians from Faith Lutheran in Fairlawn will join with t
 he Holy Trinity Choir in presenting the annual Advent Procession of Le
 ssons & Carols
X-ALT-DESC;FMTTYPE=text/html:<div class=page-restrict-output><p>Musici
 ans from Faith Lutheran in Fairlawn will join with the Holy Trinity Ch
 oir in presenting the annual Advent Procession of Lessons & Carols</p>
 \n</div>
URL:https://akronago.org/events/452/advent-procession-of-lessons-carol
 s/?lang=en
ATTACH:https://akronago.org/events/452/advent-procession-of-lessons-ca
 rols/?lang=en
ATTACH:https://akronago.org/wp-content/uploads/holy-trinity-lutheran-t
 ower-150x150.png
LOCATION:Holy Trinity Lutheran (Akron)\, 50 North Prospect St\, Akron
END:VEVENT
END:VCALENDAR
