BEGIN:VCALENDAR
VERSION:2.0
METHOD:PUBLISH
PRODID:-//hacksw/handcal//NONSGML v1.0//EN
BEGIN:VEVENT
DTSTAMP:20260423T111929Z
DTSTART:20191110T200000Z
DTEND:20191111T000600Z
UID:20191110T200000Z-20191111T000600Z-451@akronago.org
SUMMARY:Boston Virtuosi Chamber Orchestra
DESCRIPTION:
X-ALT-DESC;FMTTYPE=text/html:<div class=page-restrict-output></div>
URL:https://akronago.org/events/451/boston-virtuosi-chamber-orchestra/
 ?lang=en
ATTACH:https://akronago.org/events/451/boston-virtuosi-chamber-orchest
 ra/?lang=en
ATTACH:https://akronago.org/wp-content/uploads/boston-virtuosi-150x150
 .png
LOCATION:Holy Trinity Lutheran (Akron)\, 50 North Prospect St\, Akron
END:VEVENT
END:VCALENDAR
