BEGIN:VCALENDAR
VERSION:2.0
METHOD:PUBLISH
PRODID:-//hacksw/handcal//NONSGML v1.0//EN
BEGIN:VEVENT
DTSTAMP:20260423T111738Z
DTSTART:20191103T230000Z
DTEND:20191103T235500Z
UID:20191103T230000Z-20191103T235500Z-450@akronago.org
SUMMARY:David Higgs
DESCRIPTION:David Higgs\, Professor of Organ at the Eastman School of 
 Music in Rochester\, New York\, performs on the 44-rank Schantz Organ 
 of St. Sebastian Parish.\n\nThis event is co-sponsored by the Akron Ch
 apter AGO.
X-ALT-DESC;FMTTYPE=text/html:<div class=page-restrict-output><p>David 
 Higgs\, Professor of Organ at the Eastman School of Music in Rochester
 \, New York\, performs on the 44-rank Schantz Organ of St. Sebastian P
 arish.</p>\n<p><em>This event is co-sponsored by the Akron Chapter AGO
 .</em></p>\n</div>
URL:https://akronago.org/events/450/david-higgs/?lang=en
ATTACH:https://akronago.org/events/450/david-higgs/?lang=en
ATTACH:https://akronago.org/wp-content/uploads/DHiggs5X7console-1-150x
 150.jpg
LOCATION:St Sebastian RC (Akron)\, 476 Mull Ave\, Akron
END:VEVENT
END:VCALENDAR
