BEGIN:VCALENDAR
VERSION:2.0
METHOD:PUBLISH
PRODID:-//hacksw/handcal//NONSGML v1.0//EN
BEGIN:VEVENT
DTSTAMP:20260423T111635Z
DTSTART:20110522T200000Z
DTEND:20110522T040000Z
UID:20110522T200000Z-20110522T040000Z-45@akronago.org
SUMMARY:Year-end Picnic
DESCRIPTION:Bring a side dish or dessert and enjoy the company of your
  fellow members and their families. Meat\, beverages\, and plasticware
  will be provided.
X-ALT-DESC;FMTTYPE=text/html:<div class=page-restrict-output><p>Bring 
 a side dish or dessert and enjoy the company of your fellow members an
 d their families. Meat\, beverages\, and plasticware will be provided.
 </p>\n</div>
URL:https://akronago.org/events/45/year-end-picnic/?lang=en
ATTACH:https://akronago.org/events/45/year-end-picnic/?lang=en
LOCATION:Home of Chuck & Janice Kobb (Kent)\, 4760 Gate Post Lane\, Ke
 nt
END:VEVENT
END:VCALENDAR
