BEGIN:VCALENDAR
VERSION:2.0
METHOD:PUBLISH
PRODID:-//hacksw/handcal//NONSGML v1.0//EN
BEGIN:VEVENT
DTSTAMP:20260423T111728Z
DTSTART:20191026T140000Z
DTEND:20191026T160000Z
UID:20191026T140000Z-20191026T160000Z-449@akronago.org
SUMMARY:Chapter Trip to First Lutheran\, Lorain
DESCRIPTION:On Saturday\, October 26\, we will have a 10:00 a.m. demon
 stration & discussion of the new Fritts organ by First Lutheran’s Dire
 ctor of Music\, Brian Wentzel. This will be followed by open console t
 ime. Lunch will follow at Brew & Stew (participants will cover the cos
 t of their own lunch). RSVPs for the event/lunch are requested by Wedn
 esday evening\, Oct. 23: https://akronago.org/lorain-rsvp/\n\nRead mor
 e about the Fritts instrument here
X-ALT-DESC;FMTTYPE=text/html:<div class=page-restrict-output><p>On Sat
 urday\, October 26\, we will have a 10:00 a.m. demonstration & discuss
 ion of the new Fritts organ by First Lutheran’s Director of Music\, Br
 ian Wentzel. This will be followed by open console time. Lunch will fo
 llow at Brew & Stew (participants will cover the cost of their own lun
 ch). RSVPs for the event/lunch are requested by Wednesday evening\, Oc
 t. 23: <a href=https://akronago.org/lorain-rsvp/>https://akronago.org/
 lorain-rsvp/</a></p>\n<p><a href=http://www.firstlutheranlorain.org/mi
 nistries/music/fritts/>Read more about the Fritts instrument here</a><
 /p>\n</div>
URL:https://akronago.org/events/449/chapter-trip-to-first-lutheran-lor
 ain/?lang=en
ATTACH:https://akronago.org/events/449/chapter-trip-to-first-lutheran-
 lorain/?lang=en
ATTACH:https://akronago.org/wp-content/uploads/Organ-4-1-150x150.jpg
LOCATION:First Lutheran (Lorain)\, 1019 @ 5th St\, Lorain
END:VEVENT
END:VCALENDAR
