BEGIN:VCALENDAR
VERSION:2.0
METHOD:PUBLISH
PRODID:-//hacksw/handcal//NONSGML v1.0//EN
BEGIN:VEVENT
DTSTAMP:20260423T111809Z
DTSTART:20191013T190000Z
DTEND:20191013T234600Z
UID:20191013T190000Z-20191013T234600Z-448@akronago.org
SUMMARY:Daniel Colaner
DESCRIPTION:Daniel Colaner\, recent winner of the Sursa American Organ
  Competition (High School Division)\, will play music of Bach\, Mendel
 ssohn\, Dupré\, Duruflé\, and Vierne. Admission is free.
X-ALT-DESC;FMTTYPE=text/html:<div class=page-restrict-output><p>Daniel
  Colaner\, recent winner of the Sursa American Organ Competition (High
  School Division)\, will play music of Bach\, Mendelssohn\, Dupré\, Du
 ruflé\, and Vierne. Admission is free.</p>\n</div>
URL:https://akronago.org/events/448/daniel-colaner/?lang=en
ATTACH:https://akronago.org/events/448/daniel-colaner/?lang=en
ATTACH:https://akronago.org/wp-content/uploads/colaner_daniel-150x150.
 jpg
LOCATION:Little Flower RC (Canton)\, 2040 Diamond St NE\, Canton
END:VEVENT
END:VCALENDAR
