BEGIN:VCALENDAR
VERSION:2.0
METHOD:PUBLISH
PRODID:-//hacksw/handcal//NONSGML v1.0//EN
BEGIN:VEVENT
DTSTAMP:20260423T111915Z
DTSTART:20191013T200000Z
DTEND:20191014T110400Z
UID:20191013T200000Z-20191014T110400Z-447@akronago.org
SUMMARY:Evensong
DESCRIPTION:Music List\nBernard Rose\, Preces & Responses\nHerbert Sum
 sion\, Evening Service in A\nArthur Baynon\, When rooks fly homeward
X-ALT-DESC;FMTTYPE=text/html:<div class=page-restrict-output><p>Music 
 List<br>\nBernard Rose\, Preces & Responses<br>\nHerbert Sumsion\, Eve
 ning Service in A<br>\nArthur Baynon\, When rooks fly homeward</p>\n</
 div>
URL:https://akronago.org/events/447/evensong/?lang=en
ATTACH:https://akronago.org/events/447/evensong/?lang=en
ATTACH:https://akronago.org/wp-content/uploads/evensong1-150x150.jpg
LOCATION:St Paul's Episcopal (Akron)\, 1361 W Market St\, Akron
END:VEVENT
END:VCALENDAR
