BEGIN:VCALENDAR
VERSION:2.0
METHOD:PUBLISH
PRODID:-//hacksw/handcal//NONSGML v1.0//EN
BEGIN:VEVENT
DTSTAMP:20260423T111903Z
DTSTART:20190908T210000Z
DTEND:20190909T105500Z
UID:20190908T210000Z-20190909T105500Z-446@akronago.org
SUMMARY:Colin MacKnight
DESCRIPTION:Part of Westminster Presbyterian's Five at Five series.
X-ALT-DESC;FMTTYPE=text/html:<div class=page-restrict-output><p>Part o
 f Westminster Presbyterian's Five at Five series.</p>\n</div>
URL:https://akronago.org/events/446/colin-macknight/?lang=en
ATTACH:https://akronago.org/events/446/colin-macknight/?lang=en
ATTACH:https://akronago.org/wp-content/uploads/colin_macknight-150x150
 .png
LOCATION:Westminster Presbyterian (Akron)\, 1250 W Exchange St\, Akron
END:VEVENT
END:VCALENDAR
