BEGIN:VCALENDAR
VERSION:2.0
METHOD:PUBLISH
PRODID:-//hacksw/handcal//NONSGML v1.0//EN
BEGIN:VEVENT
DTSTAMP:20260423T111905Z
DTSTART:20190929T200000Z
DTEND:20190930T105100Z
UID:20190929T200000Z-20190930T105100Z-445@akronago.org
SUMMARY:David Hurd
DESCRIPTION:
X-ALT-DESC;FMTTYPE=text/html:<div class=page-restrict-output></div>
URL:https://akronago.org/events/445/david-hurd/?lang=en
ATTACH:https://akronago.org/events/445/david-hurd/?lang=en
ATTACH:https://akronago.org/wp-content/uploads/david-hurd-150x150.jpeg
LOCATION:Holy Trinity Lutheran (Akron)\, 50 North Prospect St\, Akron
END:VEVENT
END:VCALENDAR
