BEGIN:VCALENDAR
VERSION:2.0
METHOD:PUBLISH
PRODID:-//hacksw/handcal//NONSGML v1.0//EN
BEGIN:VEVENT
DTSTAMP:20260423T111739Z
DTSTART:20190928T140000Z
DTEND:20190929T124800Z
UID:20190928T140000Z-20190929T124800Z-444@akronago.org
SUMMARY:David Hurd Workshop & Luncheon
DESCRIPTION:Musical compositions\, in the end\, speak for themselves. 
 Yet the circumstances which cause them to be composed\, and many other
  influences\, inform the shape they take. David Hurd offers some backg
 round on and analysis of several of his choral and organ compositions\
 , including works he will perform on his September 29 recital.\n\nThe 
 10am-Noon workshop will be held at Holy Trinity Lutheran Church (50 N.
  Prospect St.\, Akron) and is co-sponsored by the Akron Chapter AGO an
 d will be followed by an RSVP-only luncheon. Members of the Canton Cha
 pter AGO will be joining the Akron Chapter for what will surely be an 
 informative and interesting look into Dr. Hurd's compositions.
X-ALT-DESC;FMTTYPE=text/html:<div class=page-restrict-output><p>Musica
 l compositions\, in the end\, speak for themselves. Yet the circumstan
 ces which cause them to be composed\, and many other influences\, info
 rm the shape they take. David Hurd offers some background on and analy
 sis of several of his choral and organ compositions\, including works 
 he will perform on his September 29 recital.</p>\n<p>The 10am-Noon wor
 kshop will be held at Holy Trinity Lutheran Church (50 N. Prospect St.
 \, Akron) and is co-sponsored by the Akron Chapter AGO and will be fol
 lowed by an RSVP-only luncheon. Members of the Canton Chapter AGO will
  be joining the Akron Chapter for what will surely be an informative a
 nd interesting look into Dr. Hurd's compositions.</p>\n</div>
URL:https://akronago.org/events/444/david-hurd-workshop-luncheon/?lang
 =en
ATTACH:https://akronago.org/events/444/david-hurd-workshop-luncheon/?l
 ang=en
ATTACH:https://akronago.org/wp-content/uploads/david-hurd-150x150.jpeg
LOCATION:Holy Trinity Lutheran (Akron)\, 50 North Prospect St\, Akron
END:VEVENT
END:VCALENDAR
