BEGIN:VCALENDAR
VERSION:2.0
METHOD:PUBLISH
PRODID:-//hacksw/handcal//NONSGML v1.0//EN
BEGIN:VEVENT
DTSTAMP:20260423T111737Z
DTSTART:20190915T200000Z
DTEND:20190916T104200Z
UID:20190915T200000Z-20190916T104200Z-443@akronago.org
SUMMARY:Evensong at St. Andrew's\, North Hill (Akron)
DESCRIPTION:Join us for a 4pm Evensong\, sung by friends and former ch
 oristers of Robert Quade.\nMusic of William Smith\, Stanford\, and oth
 ers\nValerie Thorson\, guest conductor\nDaniel Fortune\, guest organis
 t
X-ALT-DESC;FMTTYPE=text/html:<div class=page-restrict-output><p>Join u
 s for a 4pm Evensong\, sung by friends and former choristers of Robert
  Quade.<br>\nMusic of William Smith\, Stanford\, and others<br>\nValer
 ie Thorson\, guest conductor<br>\nDaniel Fortune\, guest organist</p>\
 n</div>
URL:https://akronago.org/events/443/evensong-at-st-andrews-north-hill-
 akron/?lang=en
ATTACH:https://akronago.org/events/443/evensong-at-st-andrews-north-hi
 ll-akron/?lang=en
ATTACH:https://akronago.org/wp-content/uploads/churchlrg-150x150.jpg
LOCATION:St Andrew's Episcopal (Akron)\, 765 Thayer St\, Akron
END:VEVENT
END:VCALENDAR
