BEGIN:VCALENDAR
VERSION:2.0
METHOD:PUBLISH
PRODID:-//hacksw/handcal//NONSGML v1.0//EN
BEGIN:VEVENT
DTSTAMP:20260423T111914Z
DTSTART:20190602T200000Z
DTEND:20190602T230000Z
UID:20190602T200000Z-20190602T230000Z-442@akronago.org
SUMMARY:Annual Chapter Picnic
DESCRIPTION:Our Annual Chapter Picnic will be Sunday\, June 2 at 4:00 
 p.m. at Forest Lodge Community Center\, 260 Greenwood Avenue\, Akron\n
 \nPlease RSVP by Thursday\, May 30: https://akronago.org/2019-chapter-
 picnic-rsvp/\n\nBring a lawn chair and a side dish or dessert to share
 . Meat\, beverages\, and paper products will be provided. If inclement
  weather\, picnic will be held indoors.
X-ALT-DESC;FMTTYPE=text/html:<div class=page-restrict-output><p><span 
 style=color: #000000\;>Our Annual Chapter Picnic will be Sunday\, June
  2 at 4:00 p.m. at Forest Lodge Community Center\, 260 Greenwood Avenu
 e\, Akron</span></p>\n<p><span style=color: #000000\;>Please RSVP by T
 hursday\, May 30: https://akronago.org/2019-chapter-picnic-rsvp/</span
 ></p>\n<p><span style=color: #000000\;>Bring a lawn chair and a side d
 ish or dessert to share. Meat\, beverages\, and paper products will be
  provided. If inclement weather\, picnic will be held indoors.</span><
 /p>\n</div>
URL:https://akronago.org/events/442/annual-chapter-picnic-copy/?lang=e
 n
ATTACH:https://akronago.org/events/442/annual-chapter-picnic-copy/?lan
 g=en
ATTACH:https://akronago.org/wp-content/uploads/ago_2018-06_picnic-web-
 150x150.png
LOCATION:Forest Lodge Community Center\, 260 Greenwood Ave\, Akron
END:VEVENT
END:VCALENDAR
