BEGIN:VCALENDAR
VERSION:2.0
METHOD:PUBLISH
PRODID:-//hacksw/handcal//NONSGML v1.0//EN
BEGIN:VEVENT
DTSTAMP:20260423T111808Z
DTSTART:20190330T140000Z
DTEND:20190330T180000Z
UID:20190330T140000Z-20190330T180000Z-441@akronago.org
SUMMARY:Schantz Organ Company & Wooster visit
DESCRIPTION:On Saturday\, March 30\, 2019 our chapter begins a Saturda
 y event-trifecta with a visit to the Schantz Organ Company in Orrville
  for two imminently practical workshops: Do-It-Yourself Tuning & Emerg
 ency Maintenance & How to Get What You Want from an Organbuilder. Afte
 r lunch at Broken Rocks in Wooster\, we visit First Presbyterian Churc
 h for and organ demonstration & open bench opportunity on the beautifu
 l 1980 Karl Wilhelm organ.\n\nWe ask those who wish to participate on 
 March 30th to submit an RSVP https://akronago.org/schantz-wooster-trip
 -rsvp/ by Thursday\, March 28. A schedule of events is also included a
 t the RSVP link.
X-ALT-DESC;FMTTYPE=text/html:<div class=page-restrict-output><p>On Sat
 urday\, March 30\, 2019 our chapter begins a Saturday event-trifecta w
 ith a visit to the Schantz Organ Company in Orrville for two imminentl
 y practical workshops: Do-It-Yourself Tuning & Emergency Maintenance &
  How to Get What You Want from an Organbuilder. After lunch at Broken 
 Rocks in Wooster\, we visit First Presbyterian Church for and organ de
 monstration & open bench opportunity on the beautiful 1980 Karl Wilhel
 m organ.</p>\n<p>We ask those who wish to participate on March 30th to
  submit an RSVP <a href=https://akronago.org/schantz-wooster-trip-rsvp
 />https://akronago.org/schantz-wooster-trip-rsvp/</a> by Thursday\, Ma
 rch 28. A schedule of events is also included at the RSVP link.</p>\n<
 /div>
URL:https://akronago.org/events/441/schantz-organ-company-wooster-visi
 t/?lang=en
ATTACH:https://akronago.org/events/441/schantz-organ-company-wooster-v
 isit/?lang=en
ATTACH:https://akronago.org/wp-content/uploads/schantz-logo-150x150.pn
 g
LOCATION:Schantz Organ Company\, 126 South Walnut Street\, Orrville
END:VEVENT
END:VCALENDAR
