BEGIN:VCALENDAR
VERSION:2.0
METHOD:PUBLISH
PRODID:-//hacksw/handcal//NONSGML v1.0//EN
BEGIN:VEVENT
DTSTAMP:20260423T112009Z
DTSTART:20190104T220000Z
DTEND:20190105T000000Z
UID:20190104T220000Z-20190105T000000Z-440@akronago.org
SUMMARY:Holiday Party at the Drugans
DESCRIPTION:On Friday\, January 4\, Conn and Kathy Drugan will host a 
 Holiday Party for the Akron Chapter AGO at their home (3138 Robin Stre
 et\, Ravenna).\n\nHoliday Goodies\nThis is your chance to get rid of y
 our leftover holiday goodies. Please bring your extra cookies\, candy\
 , fruitcake\, and other treasts to share. If you can\, let us know if 
 you’re able bring something when you fill out the RSVP online.\n\nMenu
 \nVarious beverages (but if there’s something in particular you would 
 like to have\, please BYOB)\; Rigatoni with meat sauce\; Veggie lasagn
 a\; Meat and veggie pizzas\; garden salad\n\nRSVP by Friday\, December
  28\nIn order to give the caterers a headcount\, we need RSVPs by Frid
 ay.\n\nDirections\nFrom I-76\, take Exit 38 (SR 44) north toward Raven
 na. Continue straight ahead as the road becomes Prospect Street. (DO N
 OT follow Rts. 44/5 which veer off to the right). \n\nTurn left at the
  first stoplight—Sandy Lake Road. (There is a Mexican restaurant on th
 e northeast corner.) Go about 1.9 miles and turn right onto Pheasant. 
 Proceed on Pheasant and take the second left onto Robin Street. \n\nCo
 nn and Kathy’s house is on the southeast corner of the crossroads in t
 he center of the development. Their house is dark brown and has Christ
 mas lights and a Nativity scene in front.  Parking is available on bot
 h Robin and Cardinal.
X-ALT-DESC;FMTTYPE=text/html:<div class=page-restrict-output><p>On Fri
 day\, January 4\, Conn and Kathy Drugan will host a Holiday Party for 
 the Akron Chapter AGO at their home (3138 Robin Street\, Ravenna).</p>
 \n<p><strong>Holiday Goodies</strong><br>\nThis is your chance to get 
 rid of your leftover holiday goodies. Please bring your extra cookies\
 , candy\, fruitcake\, and other treasts to share. If you can\, let us 
 know if you’re able bring something when you <a href=https://akronago.
 org/2019-holiday-party-rsvp/>fill out the RSVP online.</a></p>\n<p><st
 rong>Menu</strong><br>\nVarious beverages (but if there’s something in
  particular you would like to have\, please BYOB)\; Rigatoni with meat
  sauce\; Veggie lasagna\; Meat and veggie pizzas\; garden salad</p>\n<
 p><strong>RSVP by Friday\, December 28</strong><br>\nIn order to give 
 the caterers a headcount\, we need RSVPs by Friday.</p>\n<p><strong>Di
 rections</strong><br>\nFrom I-76\, take Exit 38 (SR 44) north toward R
 avenna. Continue straight ahead as the road becomes Prospect Street. (
 DO NOT follow Rts. 44/5 which veer off to the right). </p>\n<p>Turn le
 ft at the first stoplight—Sandy Lake Road. (There is a Mexican restaur
 ant on the northeast corner.) Go about 1.9 miles and turn right onto P
 heasant. Proceed on Pheasant and take the second left onto Robin Stree
 t. </p>\n<p>Conn and Kathy’s house is on the southeast corner of the c
 rossroads in the center of the development. Their house is dark brown 
 and has Christmas lights and a Nativity scene in front.  Parking is av
 ailable on both Robin and Cardinal.</p>\n</div>
URL:https://akronago.org/events/440/holiday-party-at-the-drugans/?lang
 =en
ATTACH:https://akronago.org/events/440/holiday-party-at-the-drugans/?l
 ang=en
ATTACH:https://akronago.org/wp-content/uploads/holiday-party-150x150.p
 ng
LOCATION:Home of Kathy & Conn Drugan (Ravenna)\, 3138 Robin St\, Raven
 na
END:VEVENT
END:VCALENDAR
