BEGIN:VCALENDAR
VERSION:2.0
METHOD:PUBLISH
PRODID:-//hacksw/handcal//NONSGML v1.0//EN
BEGIN:VEVENT
DTSTAMP:20260423T111728Z
DTSTART:20110409T130000Z
DTEND:20110409T190000Z
UID:20110409T130000Z-20110409T190000Z-44@akronago.org
SUMMARY:Pedals\, Pipes and Pizza
DESCRIPTION:A great opportunity to introduce area youth to the wonders
  of the pipe organ. The children will enjoy an organ crawl\, rap narra
 tive/organ demonstration\, pizza lunch\, two-hour semi-private organ l
 esson\, and student recital. Also\, the Akron AGO Scholarship Award Pr
 esentation will be made.
X-ALT-DESC;FMTTYPE=text/html:<div class=page-restrict-output><p>A grea
 t opportunity to introduce area youth to the wonders of the pipe organ
 . The children will enjoy an organ crawl\, rap narrative/organ demonst
 ration\, pizza lunch\, two-hour semi-private organ lesson\, and studen
 t recital. Also\, the Akron AGO Scholarship Award Presentation will be
  made.</p>\n</div>
URL:https://akronago.org/events/44/pedals-pipes-and-pizza/?lang=en
ATTACH:https://akronago.org/events/44/pedals-pipes-and-pizza/?lang=en
LOCATION:Fairlawn Lutheran\, 3415 W Market St\, Fairlawn\, OH
END:VEVENT
END:VCALENDAR
