BEGIN:VCALENDAR
VERSION:2.0
METHOD:PUBLISH
PRODID:-//hacksw/handcal//NONSGML v1.0//EN
BEGIN:VEVENT
DTSTAMP:20260423T111739Z
DTSTART:20190510T233000Z
DTEND:20190511T032000Z
UID:20190510T233000Z-20190511T032000Z-439@akronago.org
SUMMARY:Akron Symphony Chorus: Fauré Requiem
DESCRIPTION:Marie Bucoy-Calavan\, Akron Symphony Chorus Director\nA pr
 ogram featuring Gabriel Faure’s “Requiem”
X-ALT-DESC;FMTTYPE=text/html:<div class=page-restrict-output><p>Marie 
 Bucoy-Calavan\, Akron Symphony Chorus Director<br>\nA program featurin
 g Gabriel Faure’s “Requiem”</p>\n</div>
URL:https://akronago.org/events/439/akron-symphony-chorus-faure-requie
 m/?lang=en
ATTACH:https://akronago.org/events/439/akron-symphony-chorus-faure-req
 uiem/?lang=en
ATTACH:https://akronago.org/wp-content/uploads/akron_symphony_chorus-1
 50x150.png
LOCATION:St Sebastian RC (Akron)\, 476 Mull Ave\, Akron
END:VEVENT
END:VCALENDAR
