BEGIN:VCALENDAR
VERSION:2.0
METHOD:PUBLISH
PRODID:-//hacksw/handcal//NONSGML v1.0//EN
BEGIN:VEVENT
DTSTAMP:20260423T111808Z
DTSTART:20190414T233000Z
DTEND:20190415T031100Z
UID:20190414T233000Z-20190415T031100Z-438@akronago.org
SUMMARY:Dubois’ “Seven Last Words of Christ”
DESCRIPTION:Featuring Parish Choir\, soloists and instrumentalists\nLy
 nn Frey-Steward\, Dir. of Music/Choirmaster/Organist\nAn evening of th
 e famous Theodore Dubois’ choral work depicting the last words spoken 
 by Christ on the cross through music. A perfect\, prayerful way to beg
 in any Holy Week.
X-ALT-DESC;FMTTYPE=text/html:<div class=page-restrict-output><p>Featur
 ing Parish Choir\, soloists and instrumentalists<br>\nLynn Frey-Stewar
 d\, Dir. of Music/Choirmaster/Organist<br>\nAn evening of the famous T
 heodore Dubois’ choral work depicting the last words spoken by Christ 
 on the cross through music. A perfect\, prayerful way to begin any Hol
 y Week.</p>\n</div>
URL:https://akronago.org/events/438/dubois-e2-80-99-e2-80-9cseven-last
 -words-of-christ-e2-80-9d/?lang=en
ATTACH:https://akronago.org/events/438/dubois-e2-80-99-e2-80-9cseven-l
 ast-words-of-christ-e2-80-9d/?lang=en
ATTACH:https://akronago.org/wp-content/uploads/seven-last-words-150x15
 0.png
LOCATION:St Sebastian RC (Akron)\, 476 Mull Ave\, Akron
END:VEVENT
END:VCALENDAR
