BEGIN:VCALENDAR
VERSION:2.0
METHOD:PUBLISH
PRODID:-//hacksw/handcal//NONSGML v1.0//EN
BEGIN:VEVENT
DTSTAMP:20260423T111827Z
DTSTART:20190217T200000Z
DTEND:20190218T030700Z
UID:20190217T200000Z-20190218T030700Z-437@akronago.org
SUMMARY:Baldwin Wallace Men’s Chorus & Parish Choir of St. Sebastian
DESCRIPTION:Mr. Frank Bianchi\, Director\, BW Chorus\nLynn Steward\, D
 irector of Music\, St. Sebastian\n\nThe 110-member chorus of Baldwin W
 allace University Chorus will present a program of diverse repertoire 
 by classic and modern day composers. Classical repertoire for male gle
 e club\, contemporary pieces and spirituals. The Chorus is one of the 
 most unique collegiate\, semi-professional\, auditioned glee clubs of 
 its kind in the US. Their membership covers a 70-year age span. The Ch
 orus has performed throughout the Greater Cleveland/Akron areas and ha
 ve appeared on State and National Educational and Collegiate Glee Club
  conferences.
X-ALT-DESC;FMTTYPE=text/html:<div class=page-restrict-output><p>Mr. Fr
 ank Bianchi\, Director\, BW Chorus<br>\nLynn Steward\, Director of Mus
 ic\, St. Sebastian</p>\n<p>The 110-member chorus of Baldwin Wallace Un
 iversity Chorus will present a program of diverse repertoire by classi
 c and modern day composers. Classical repertoire for male glee club\, 
 contemporary pieces and spirituals. The Chorus is one of the most uniq
 ue collegiate\, semi-professional\, auditioned glee clubs of its kind 
 in the US. Their membership covers a 70-year age span. The Chorus has 
 performed throughout the Greater Cleveland/Akron areas and have appear
 ed on State and National Educational and Collegiate Glee Club conferen
 ces.</p>\n</div>
URL:https://akronago.org/events/437/baldwin-wallace-men-e2-80-99s-chor
 us-parish-choir-of-st-sebastian/?lang=en
ATTACH:https://akronago.org/events/437/baldwin-wallace-men-e2-80-99s-c
 horus-parish-choir-of-st-sebastian/?lang=en
ATTACH:https://akronago.org/wp-content/uploads/st-sebastian-church-150
 x150.jpg
LOCATION:St Sebastian RC (Akron)\, 476 Mull Ave\, Akron
END:VEVENT
END:VCALENDAR
