BEGIN:VCALENDAR
VERSION:2.0
METHOD:PUBLISH
PRODID:-//hacksw/handcal//NONSGML v1.0//EN
BEGIN:VEVENT
DTSTAMP:20260423T111913Z
DTSTART:20181118T210000Z
DTEND:20181119T030300Z
UID:20181118T210000Z-20181119T030300Z-436@akronago.org
SUMMARY:St. Cecilia Sing
DESCRIPTION:Featuring Choirs from the Cleveland Diocese
X-ALT-DESC;FMTTYPE=text/html:<div class=page-restrict-output><p>Featur
 ing Choirs from the Cleveland Diocese</p>\n</div>
URL:https://akronago.org/events/436/st-cecilia-sing/?lang=en
ATTACH:https://akronago.org/events/436/st-cecilia-sing/?lang=en
ATTACH:https://akronago.org/wp-content/uploads/st_cecilia-150x150.jpg
LOCATION:St Sebastian RC (Akron)\, 476 Mull Ave\, Akron
END:VEVENT
END:VCALENDAR
