BEGIN:VCALENDAR
VERSION:2.0
METHOD:PUBLISH
PRODID:-//hacksw/handcal//NONSGML v1.0//EN
BEGIN:VEVENT
DTSTAMP:20260423T111725Z
DTSTART:20181218T160000Z
DTEND:20181219T024900Z
UID:20181218T160000Z-20181219T024900Z-435@akronago.org
SUMMARY:Brian Ebie
DESCRIPTION:Brian Ebie performs as part of the Adoration and Noon Orga
 n Concerts on Tuesdays in December.
X-ALT-DESC;FMTTYPE=text/html:<div class=page-restrict-output><p>Brian 
 Ebie performs as part of the <strong>Adoration and Noon Organ Concerts
 </strong> on Tuesdays in December.</p>\n</div>
URL:https://akronago.org/events/435/brian-ebie/?lang=en
ATTACH:https://akronago.org/events/435/brian-ebie/?lang=en
ATTACH:https://akronago.org/wp-content/uploads/ebie-brian-1-150x150.jp
 g
LOCATION:St Sebastian RC (Akron)\, 476 Mull Ave\, Akron
END:VEVENT
END:VCALENDAR
