BEGIN:VCALENDAR
VERSION:2.0
METHOD:PUBLISH
PRODID:-//hacksw/handcal//NONSGML v1.0//EN
BEGIN:VEVENT
DTSTAMP:20260423T111726Z
DTSTART:20181211T160000Z
DTEND:20181212T024800Z
UID:20181211T160000Z-20181212T024800Z-434@akronago.org
SUMMARY:Ruth Anderson
DESCRIPTION:Ruth Anderson performs as part of the Adoration and Noon O
 rgan Concerts on Tuesdays in December.
X-ALT-DESC;FMTTYPE=text/html:<div class=page-restrict-output><p>Ruth A
 nderson performs as part of the <strong>Adoration and Noon Organ Conce
 rts</strong> on Tuesdays in December.</p>\n</div>
URL:https://akronago.org/events/434/ruth-anderson/?lang=en
ATTACH:https://akronago.org/events/434/ruth-anderson/?lang=en
ATTACH:https://akronago.org/wp-content/uploads/Ruth_Anderson-150x150.j
 pg
LOCATION:St Sebastian RC (Akron)\, 476 Mull Ave\, Akron
END:VEVENT
END:VCALENDAR
