BEGIN:VCALENDAR
VERSION:2.0
METHOD:PUBLISH
PRODID:-//hacksw/handcal//NONSGML v1.0//EN
BEGIN:VEVENT
DTSTAMP:20260423T111614Z
DTSTART:20181204T160000Z
DTEND:20181205T024400Z
UID:20181204T160000Z-20181205T024400Z-433@akronago.org
SUMMARY:Mason Meyer
DESCRIPTION:Mason Meyer performs as part of the Adoration and Noon Org
 an Concerts on Tuesdays in December.
X-ALT-DESC;FMTTYPE=text/html:<div class=page-restrict-output><p>Mason 
 Meyer performs as part of the <strong>Adoration and Noon Organ Concert
 s</strong> on Tuesdays in December.</p>\n</div>
URL:https://akronago.org/events/433/mason-meyer/?lang=en
ATTACH:https://akronago.org/events/433/mason-meyer/?lang=en
ATTACH:https://akronago.org/wp-content/uploads/meyer-mason-1.jpg
LOCATION:St Sebastian RC (Akron)\, 476 Mull Ave\, Akron
END:VEVENT
END:VCALENDAR
