BEGIN:VCALENDAR
VERSION:2.0
METHOD:PUBLISH
PRODID:-//hacksw/handcal//NONSGML v1.0//EN
BEGIN:VEVENT
DTSTAMP:20260423T112009Z
DTSTART:20181230T150000Z
DTEND:20181230T172200Z
UID:20181230T150000Z-20181230T172200Z-432@akronago.org
SUMMARY:A Festival of Nine Lessons & Carols
DESCRIPTION:
X-ALT-DESC;FMTTYPE=text/html:<div class=page-restrict-output></div>
URL:https://akronago.org/events/432/a-festival-of-nine-lessons-carols/
 ?lang=en
ATTACH:https://akronago.org/events/432/a-festival-of-nine-lessons-caro
 ls/?lang=en
ATTACH:https://akronago.org/wp-content/uploads/StPaulsAkron-150x150.jp
 g
LOCATION:St Paul's Episcopal (Akron)\, 1361 W Market St\, Akron
END:VEVENT
END:VCALENDAR
