BEGIN:VCALENDAR
VERSION:2.0
METHOD:PUBLISH
PRODID:-//hacksw/handcal//NONSGML v1.0//EN
BEGIN:VEVENT
DTSTAMP:20260423T112009Z
DTSTART:20181118T200000Z
DTEND:20181119T171600Z
UID:20181118T200000Z-20181119T171600Z-430@akronago.org
SUMMARY:Evensong
DESCRIPTION:Sung by the Choirs of St. Paul's Episcopal Church\, Akron 
 (Daniel Fortune\, director)
X-ALT-DESC;FMTTYPE=text/html:<div class=page-restrict-output><p>Sung b
 y the Choirs of St. Paul's Episcopal Church\, Akron (Daniel Fortune\, 
 director)</p>\n</div>
URL:https://akronago.org/events/430/evensong/?lang=en
ATTACH:https://akronago.org/events/430/evensong/?lang=en
ATTACH:https://akronago.org/wp-content/uploads/evensong1-150x150.jpg
LOCATION:St Andrew's Episcopal (Barberton)\, 583 W Hopocan Ave\, Barbe
 rton
END:VEVENT
END:VCALENDAR
