BEGIN:VCALENDAR
VERSION:2.0
METHOD:PUBLISH
PRODID:-//hacksw/handcal//NONSGML v1.0//EN
BEGIN:VEVENT
DTSTAMP:20260423T111913Z
DTSTART:20181021T200000Z
DTEND:20181022T171400Z
UID:20181021T200000Z-20181022T171400Z-429@akronago.org
SUMMARY:Evensong
DESCRIPTION:Music: Robert Quade\, Preces & Responses\; Peter Aston in 
 F\; Mendelssohn\, He watching over Israel
X-ALT-DESC;FMTTYPE=text/html:<div class=page-restrict-output><p>Music:
  Robert Quade\, Preces &amp\; Responses\; Peter Aston in F\; Mendelsso
 hn\, He watching over Israel</p>\n</div>
URL:https://akronago.org/events/429/evensong/?lang=en
ATTACH:https://akronago.org/events/429/evensong/?lang=en
ATTACH:https://akronago.org/wp-content/uploads/evensong1-150x150.jpg
LOCATION:St Paul's Episcopal (Akron)\, 1361 W Market St\, Akron
END:VEVENT
END:VCALENDAR
