BEGIN:VCALENDAR
VERSION:2.0
METHOD:PUBLISH
PRODID:-//hacksw/handcal//NONSGML v1.0//EN
BEGIN:VEVENT
DTSTAMP:20260423T112008Z
DTSTART:20190505T210000Z
DTEND:20190506T171200Z
UID:20190505T210000Z-20190506T171200Z-428@akronago.org
SUMMARY:David Heller Singer's Companye
DESCRIPTION:
X-ALT-DESC;FMTTYPE=text/html:<div class=page-restrict-output></div>
URL:https://akronago.org/events/428/david-heller-singers-companye/?lan
 g=en
ATTACH:https://akronago.org/events/428/david-heller-singers-companye/?
 lang=en
LOCATION:Westminster Presbyterian (Akron)\, 1250 W Exchange St\, Akron
END:VEVENT
END:VCALENDAR
