BEGIN:VCALENDAR
VERSION:2.0
METHOD:PUBLISH
PRODID:-//hacksw/handcal//NONSGML v1.0//EN
BEGIN:VEVENT
DTSTAMP:20260423T111635Z
DTSTART:20181014T210000Z
DTEND:20181015T170600Z
UID:20181014T210000Z-20181015T170600Z-426@akronago.org
SUMMARY:University of Akron Steel Drum Band
DESCRIPTION:
X-ALT-DESC;FMTTYPE=text/html:<div class=page-restrict-output></div>
URL:https://akronago.org/events/426/university-of-akron-steel-drum-ban
 d/?lang=en
ATTACH:https://akronago.org/events/426/university-of-akron-steel-drum-
 band/?lang=en
ATTACH:https://akronago.org/wp-content/uploads/iu-150x150.jpeg
LOCATION:Westminster Presbyterian (Akron)\, 1250 W Exchange St\, Akron
END:VEVENT
END:VCALENDAR
