BEGIN:VCALENDAR
VERSION:2.0
METHOD:PUBLISH
PRODID:-//hacksw/handcal//NONSGML v1.0//EN
BEGIN:VEVENT
DTSTAMP:20260423T111913Z
DTSTART:20190505T200000Z
DTEND:20190506T170200Z
UID:20190505T200000Z-20190506T170200Z-425@akronago.org
SUMMARY:Four High School Choirs Music Festival
DESCRIPTION:Revere\, Copley-Fairlawn\, Medina and Firestone High Schoo
 ls Directors: Alice Forney\, Basil Kochan\, Tyler Skidmore\, Chad Pitt
 man. The four high school choirs celebrate their thirteenth annual Hig
 h School Music Festival this year. Each choir will perform three of th
 eir own selections and then jointogether for a final large-group sacre
 d number\, encirclingthe sanctuary and singing in the round. Audiences
  continue to be inspired year after year by the many new selections an
 d entertaining music.
X-ALT-DESC;FMTTYPE=text/html:<div class=page-restrict-output><div clas
 s=page title=Page 2>\n<div class=layoutArea>\n<div class=column>\n<p>R
 evere\, Copley-Fairlawn\, Medina and Firestone High Schools Directors:
  Alice Forney\, Basil Kochan\, Tyler Skidmore\, Chad Pittman. The four
  high school choirs celebrate their thirteenth annual High School Musi
 c Festival this year. Each choir will perform three of their own selec
 tions and then jointogether for a final large-group sacred number\, en
 circlingthe sanctuary and singing in the round. Audiences continue to 
 be inspired year after year by the many new selections and entertainin
 g music.</p>\n</div>\n</div>\n</div>\n</div>
URL:https://akronago.org/events/425/four-high-school-choirs-music-fest
 ival/?lang=en
ATTACH:https://akronago.org/events/425/four-high-school-choirs-music-f
 estival/?lang=en
ATTACH:https://akronago.org/wp-content/uploads/high-school-festival-fa
 irlawn-lutheran-150x150.png
LOCATION:Fairlawn Lutheran\, 3415 W Market St\, Fairlawn\, OH
END:VEVENT
END:VCALENDAR
