BEGIN:VCALENDAR
VERSION:2.0
METHOD:PUBLISH
PRODID:-//hacksw/handcal//NONSGML v1.0//EN
BEGIN:VEVENT
DTSTAMP:20260423T111810Z
DTSTART:20190407T200000Z
DTEND:20190408T165500Z
UID:20190407T200000Z-20190408T165500Z-424@akronago.org
SUMMARY:Daniel Colaner
DESCRIPTION:Daniel Colaner is a pianist and organist who recently debu
 ted at Carnegie Hall and was featured on Good Morning America\, ABC Wo
 rld News Tonight\, Nightline\, BBC World Service Newsday\, The Harry S
 how\, The 700 Club\, along with numerous articles online. He was diagn
 osed with cancer at an early age\, every parent’s worst nightmare. He 
 not only survived but is now thriving and giving God all the praise. A
 t just 13\, his concert at Fairlawn Lutheran will be his first full pr
 ogram on the organ. He was last year’s AGO Scholarship winner and has 
 been preparing for this concert for over a year\, studying with David 
 Higgs at the Eastman School of Music in Rochester\, New York.
X-ALT-DESC;FMTTYPE=text/html:<div class=page-restrict-output><div clas
 s=page title=Page 2>\n<div class=layoutArea>\n<div class=column>\n<p>D
 aniel Colaner is a pianist and organist who recently debuted at Carneg
 ie Hall and was featured on Good Morning America\, ABC World News Toni
 ght\, Nightline\, BBC World Service Newsday\, The Harry Show\, The 700
  Club\, along with numerous articles online. He was diagnosed with can
 cer at an early age\, every parent’s worst nightmare. He not only surv
 ived but is now thriving and giving God all the praise. At just 13\, h
 is concert at Fairlawn Lutheran will be his first full program on the 
 organ. He was last year’s AGO Scholarship winner and has been preparin
 g for this concert for over a year\, studying with David Higgs at the 
 Eastman School of Music in Rochester\, New York.</p>\n</div>\n</div>\n
 </div>\n</div>
URL:https://akronago.org/events/424/daniel-colaner/?lang=en
ATTACH:https://akronago.org/events/424/daniel-colaner/?lang=en
ATTACH:https://akronago.org/wp-content/uploads/daniel_colaner-150x150.
 png
LOCATION:Fairlawn Lutheran\, 3415 W Market St\, Fairlawn\, OH
END:VEVENT
END:VCALENDAR
