BEGIN:VCALENDAR
VERSION:2.0
METHOD:PUBLISH
PRODID:-//hacksw/handcal//NONSGML v1.0//EN
BEGIN:VEVENT
DTSTAMP:20260423T111903Z
DTSTART:20190303T200000Z
DTEND:20190304T165200Z
UID:20190303T200000Z-20190304T165200Z-423@akronago.org
SUMMARY:Wittenberg University Choir
DESCRIPTION:Director: Dr. Erik Zinter\n\nThe world-renowned Wittenberg
  University Choir (under the direction of visiting assistant professor
 \, Erik Zinter)\, serves as the singing ambassador for the university.
  Throughout its long and illustrious history\, the choir has become on
 e of the most traveled college choral groups in the nation\, singing t
 hroughout the US and Europe. In addition to performing each semester o
 n campus\, they tour in the US every spring semester. They will perfor
 m both sacred and secular repertoire\, some American music\, an eclect
 ic Mass by four different composers (spanning 700 years)\, several fol
 k songs and favorite hymns.
X-ALT-DESC;FMTTYPE=text/html:<div class=page-restrict-output><div clas
 s=page title=Page 2>\n<div class=layoutArea>\n<div class=column>\n<p>D
 irector: Dr. Erik Zinter</p>\n<p>The world-renowned Wittenberg Univers
 ity Choir (under the direction of visiting assistant professor\, Erik 
 Zinter)\, serves as the singing ambassador for the university. Through
 out its long and illustrious history\, the choir has become one of the
  most traveled college choral groups in the nation\, singing throughou
 t the US and Europe. In addition to performing each semester on campus
 \, they tour in the US every spring semester. They will perform both s
 acred and secular repertoire\, some American music\, an eclectic Mass 
 by four different composers (spanning 700 years)\, several folk songs 
 and favorite hymns.</p>\n</div>\n</div>\n</div>\n</div>
URL:https://akronago.org/events/423/wittenberg-university-choir/?lang=
 en
ATTACH:https://akronago.org/events/423/wittenberg-university-choir/?la
 ng=en
ATTACH:https://akronago.org/wp-content/uploads/wittenberg_choir-150x15
 0.png
LOCATION:Fairlawn Lutheran\, 3415 W Market St\, Fairlawn\, OH
END:VEVENT
END:VCALENDAR
