BEGIN:VCALENDAR
VERSION:2.0
METHOD:PUBLISH
PRODID:-//hacksw/handcal//NONSGML v1.0//EN
BEGIN:VEVENT
DTSTAMP:20260423T111905Z
DTSTART:20181209T200000Z
DTEND:20181210T165000Z
UID:20181209T200000Z-20181210T165000Z-422@akronago.org
SUMMARY:Singers Companye Christmas Concert
DESCRIPTION:Artistic Director: Dr. Samuel Gordon\n\nWe welcome back th
 is superb chamber choir that Cleveland Classical recently described as
  a “vibrant\, well-blended choral sound crowned with powerful climaxes
 ...in full control of their challenging repertoire.” The ensemble will
  present “A Light that I Can See\,” a program of Advent/Christmas repe
 rtoire that includes a Magnificat by JamesMcCray\, a motet by Johann A
 dolph Hasse (18th century genius) for orchestra and choir\, along with
  brilliant carol settings from many nations. Enjoy some traditional ca
 rols set by today’s most celebrated choral composers\, but keep your e
 ars tuned for some exciting Christmas music you have never heard befor
 e. Join us in ushering in this joyous season with a listening experien
 ce you won’t want to miss!
X-ALT-DESC;FMTTYPE=text/html:<div class=page-restrict-output><div clas
 s=page title=Page 2>\n<div class=layoutArea>\n<div class=column>\n<p>A
 rtistic Director: Dr. Samuel Gordon</p>\n<p>We welcome back this super
 b chamber choir that Cleveland Classical recently described as a “vibr
 ant\, well-blended choral sound crowned with powerful climaxes...in fu
 ll control of their challenging repertoire.” The ensemble will present
  “A Light that I Can See\,” a program of Advent/Christmas repertoire t
 hat includes a Magnificat by JamesMcCray\, a motet by Johann Adolph Ha
 sse (18th century genius) for orchestra and choir\, along with brillia
 nt carol settings from many nations. Enjoy some traditional carols set
  by today’s most celebrated choral composers\, but keep your ears tune
 d for some exciting Christmas music you have never heard before. Join 
 us in ushering in this joyous season with a listening experience you w
 on’t want to miss!</p>\n</div>\n</div>\n</div>\n</div>
URL:https://akronago.org/events/422/singers-companye-christmas-concert
 /?lang=en
ATTACH:https://akronago.org/events/422/singers-companye-christmas-conc
 ert/?lang=en
ATTACH:https://akronago.org/wp-content/uploads/singers_companye-150x15
 0.png
LOCATION:Fairlawn Lutheran\, 3415 W Market St\, Fairlawn\, OH
END:VEVENT
END:VCALENDAR
