BEGIN:VCALENDAR
VERSION:2.0
METHOD:PUBLISH
PRODID:-//hacksw/handcal//NONSGML v1.0//EN
BEGIN:VEVENT
DTSTAMP:20260423T111828Z
DTSTART:20181118T200000Z
DTEND:20181119T164400Z
UID:20181118T200000Z-20181119T164400Z-421@akronago.org
SUMMARY:Organ Expressions: Jonathan Moyer
DESCRIPTION:Jonathan William Moyer maintains a dynamic career as churc
 h musician\, concert organist and pedagogue. The Baltimore Sun has des
 cribed his playing as “ever-expressive\, stylish and riveting.” He is 
 an assistant professor of organ at the Oberlin Conservatory of Music a
 nd is music director and organist of the Church of the Covenant in Cle
 veland\, Ohio. He specializes in a vast repertoire from the Renaissanc
 e to the 21st century\, and he has performed throughout the United Sta
 tes\, Europe\, and Japan.
X-ALT-DESC;FMTTYPE=text/html:<div class=page-restrict-output><div clas
 s=page title=Page 2>\n<div class=layoutArea>\n<div class=column>\n<p>J
 onathan William Moyer maintains a dynamic career as church musician\, 
 concert organist and pedagogue. The Baltimore Sun has described his pl
 aying as “ever-expressive\, stylish and riveting.” He is an assistant 
 professor of organ at the Oberlin Conservatory of Music and is music d
 irector and organist of the Church of the Covenant in Cleveland\, Ohio
 . He specializes in a vast repertoire from the Renaissance to the 21st
  century\, and he has performed throughout the United States\, Europe\
 , and Japan.</p>\n</div>\n</div>\n</div>\n</div>
URL:https://akronago.org/events/421/organ-expressions-jonathan-moyer/?
 lang=en
ATTACH:https://akronago.org/events/421/organ-expressions-jonathan-moye
 r/?lang=en
ATTACH:https://akronago.org/wp-content/uploads/JonathanMoyer-150x150.p
 ng
LOCATION:Fairlawn Lutheran\, 3415 W Market St\, Fairlawn\, OH
END:VEVENT
END:VCALENDAR
