BEGIN:VCALENDAR
VERSION:2.0
METHOD:PUBLISH
PRODID:-//hacksw/handcal//NONSGML v1.0//EN
BEGIN:VEVENT
DTSTAMP:20260423T111905Z
DTSTART:20181021T200000Z
DTEND:20181022T163800Z
UID:20181021T200000Z-20181022T163800Z-420@akronago.org
SUMMARY:University of Akron Chamber & Concert Choirs
DESCRIPTION:Director: Dr. Marie L. Bucoy-Calavan\n\nThis year’s featur
 ed selection will include Caroline Shaw’s stunning work: “To the Hands
 ” — based on Dietrich Buxtehude’s “Ad Manus” from Membra Jesu Nostri\,
  (complete with strings\, organ and staging). Its subject is today’s r
 efugee problem\, the struggle and discomfort it produces\; and how we 
 shouldn’t shy away from\, but “Lean Into” the issue with courage\, kin
 dness and love — actually growing spiritually in the process.
X-ALT-DESC;FMTTYPE=text/html:<div class=page-restrict-output><div clas
 s=page title=Page 2>\n<div class=layoutArea>\n<div class=column>\n<p>D
 irector: Dr. Marie L. Bucoy-Calavan</p>\n<p>This year’s featured selec
 tion will include Caroline Shaw’s stunning work: “To the Hands” — base
 d on Dietrich Buxtehude’s “Ad Manus” from Membra Jesu Nostri\, (comple
 te with strings\, organ and staging). Its subject is today’s refugee p
 roblem\, the struggle and discomfort it produces\; and how we shouldn’
 t shy away from\, but “Lean Into” the issue with courage\, kindness an
 d love — actually growing spiritually in the process.</p>\n</div>\n</d
 iv>\n</div>\n</div>
URL:https://akronago.org/events/420/university-of-akron-chamber-concer
 t-choirs/?lang=en
ATTACH:https://akronago.org/events/420/university-of-akron-chamber-con
 cert-choirs/?lang=en
ATTACH:https://akronago.org/wp-content/uploads/u_of_akron_choirs-150x1
 50.png
LOCATION:Fairlawn Lutheran\, 3415 W Market St\, Fairlawn\, OH
END:VEVENT
END:VCALENDAR
