BEGIN:VCALENDAR
VERSION:2.0
METHOD:PUBLISH
PRODID:-//hacksw/handcal//NONSGML v1.0//EN
BEGIN:VEVENT
DTSTAMP:20260423T111655Z
DTSTART:20110207T150000Z
DTEND:20110208T010000Z
UID:20110207T150000Z-20110208T010000Z-42@akronago.org
SUMMARY:Scholarship Fundraiser & Bake Sale
DESCRIPTION:During regular business hours when you dine at Applebee’s\
 , a portion of your bill will be donated to our student scholarship fu
 nd. We’ll need your help distributing flyers and inviting your family\
 , friends\, neighbors\, and church members to join us by eating out. D
 onations will also be needed for the bake sale.\n\nFor more details\, 
 read the Scholarship Fundraiser article in our Members News area.\n\nD
 ownload the flyer
X-ALT-DESC;FMTTYPE=text/html:<div class=page-restrict-output><p>During
  regular business hours when you dine at Applebee’s\, a portion of you
 r bill will be donated to our student scholarship fund. We’ll need you
 r help distributing flyers and inviting your family\, friends\, neighb
 ors\, and church members to join us by eating out. Donations will also
  be needed for the bake sale.</p>\n<p>For more details\, read the <a h
 ref=http://akronago.org/http:/akronago.org/main/scholarship-fundraiser
 />Scholarship Fundraiser article</a> in our Members News area.</p>\n<p
 ><a href=http://akronago.org/applebees-flyer.pdf>Download the flyer</a
 ></p>\n</div>
URL:https://akronago.org/events/42/scholarship-fundraiser-bake-sale/?l
 ang=en
ATTACH:https://akronago.org/events/42/scholarship-fundraiser-bake-sale
 /?lang=en
LOCATION:Applebee's\, Chapel Hill (Akron)\, 508 Howe Ave\, Akron
END:VEVENT
END:VCALENDAR
