BEGIN:VCALENDAR
VERSION:2.0
METHOD:PUBLISH
PRODID:-//hacksw/handcal//NONSGML v1.0//EN
BEGIN:VEVENT
DTSTAMP:20260423T112010Z
DTSTART:20190505T200000Z
DTEND:20190506T105500Z
UID:20190505T200000Z-20190506T105500Z-419@akronago.org
SUMMARY:Harmony Ringers
DESCRIPTION:Harmony Ringers is an auditioned community handbell choir 
 of advanced ringers and are quite fascinating to watch. Not only do th
 ey dazzle you with quick hand movements...switching bells\, mallets an
 d chimes...but they enjoy adding to their costumes\, as well. Included
  in their program will be sacred and secular pieces\, some of which we
 re written specifically for them.  Under the direction of Christine Al
 lison\, they play 5 1/2 octaves of Malmark Handbells and 7 octaves of 
 Malmark Choirchimes.\n\nWatch a video of the Harmony Ringers and see t
 heir concert program on Holy Trinity Lutheran's website.
X-ALT-DESC;FMTTYPE=text/html:<div class=page-restrict-output><p>Harmon
 y Ringers is an auditioned community handbell choir of advanced ringer
 s and are quite fascinating to watch. Not only do they dazzle you with
  quick hand movements...switching bells\, mallets and chimes...but the
 y enjoy adding to their costumes\, as well. Included in their program 
 will be sacred and secular pieces\, some of which were written specifi
 cally for them.  Under the direction of Christine Allison\, they play 
 5 1/2 octaves of Malmark Handbells and 7 octaves of Malmark Choirchime
 s.</p>\n<p>Watch a video of the Harmony Ringers and see their concert 
 program <a href=http://holytrinityakron.org/index.php?option=com_conte
 nt&amp\;view=article&amp\;id=277>on Holy Trinity Lutheran's website.</
 a></p>\n</div>
URL:https://akronago.org/events/419/harmony-ringers/?lang=en
ATTACH:https://akronago.org/events/419/harmony-ringers/?lang=en
ATTACH:https://akronago.org/wp-content/uploads/fullsizeoutput_2343-150
 x150.jpeg
LOCATION:Holy Trinity Lutheran (Akron)\, 50 North Prospect St\, Akron
END:VEVENT
END:VCALENDAR
