BEGIN:VCALENDAR
VERSION:2.0
METHOD:PUBLISH
PRODID:-//hacksw/handcal//NONSGML v1.0//EN
BEGIN:VEVENT
DTSTAMP:20260423T112008Z
DTSTART:20190407T200000Z
DTEND:20190408T105000Z
UID:20190407T200000Z-20190408T105000Z-418@akronago.org
SUMMARY:Organized Rhythm
DESCRIPTION:Concert audiences across the United States have been broug
 ht to their feet by a pairing of musical personalities as improbable a
 nd winning as Organized Rhythm’s combination of the pipe organ and per
 cussion.  British organist Clive Driskill-Smith\,whose solo performanc
 es in England and America earned him recognition as one of his generat
 ion’s star organists\, is wry and reserved—until he lets loose an asto
 nishing battery of effects at the keyboard. He’s complemented by the a
 thletic movement of Joseph Gramley\, a physically towering Oregon nati
 ve whose own crowd-pleasing solo concerts and work with Yo-Yo Ma’s Sil
 k Road Ensemble have made him one of the leading percussionists perfor
 ming today. This powerful and harmonious duo presents what has been de
 scribed as “…an exciting two-hour musical adventure\, [offering] start
 ling clear insight into what makes a live performance good\, and why g
 ood live performances are important for us....passion\, technical mast
 ery\, and precision.  (The Granite State News\, Wolfeboro NH)\n\nRead 
 more about Organized Rhythm on Holy Trinity Lutheran's website.
X-ALT-DESC;FMTTYPE=text/html:<div class=page-restrict-output><p>Concer
 t audiences across the United States have been brought to their feet b
 y a pairing of musical personalities as improbable and winning as Orga
 nized Rhythm’s combination of the pipe organ and percussion.  British 
 organist Clive Driskill-Smith\,whose solo performances in England and 
 America earned him recognition as one of his generation’s star organis
 ts\, is wry and reserved—until he lets loose an astonishing battery of
  effects at the keyboard. He’s complemented by the athletic movement o
 f Joseph Gramley\, a physically towering Oregon native whose own crowd
 -pleasing solo concerts and work with Yo-Yo Ma’s Silk Road Ensemble ha
 ve made him one of the leading percussionists performing today. This p
 owerful and harmonious duo presents what has been described as “…an ex
 citing two-hour musical adventure\, [offering] startling clear insight
  into what makes a live performance good\, and why good live performan
 ces are important for us....passion\, technical mastery\, and precisio
 n.  (The Granite State News\, Wolfeboro NH)</p>\n<p><a href=http://hol
 ytrinityakron.org/index.php?option=com_content&amp\;view=article&amp\;
 id=276>Read more about Organized Rhythm on Holy Trinity Lutheran's web
 site.</a></p>\n</div>
URL:https://akronago.org/events/418/organized-rhythm/?lang=en
ATTACH:https://akronago.org/events/418/organized-rhythm/?lang=en
ATTACH:https://akronago.org/wp-content/uploads/OR_06-150x150.jpg
LOCATION:Holy Trinity Lutheran (Akron)\, 50 North Prospect St\, Akron
END:VEVENT
END:VCALENDAR
