BEGIN:VCALENDAR
VERSION:2.0
METHOD:PUBLISH
PRODID:-//hacksw/handcal//NONSGML v1.0//EN
BEGIN:VEVENT
DTSTAMP:20260423T111727Z
DTSTART:20190305T230000Z
DTEND:20190306T104400Z
UID:20190305T230000Z-20190306T104400Z-417@akronago.org
SUMMARY:New Black Eagle Jazz Band
DESCRIPTION:For over forty years\, from Symphony Hall to Singapore\, t
 he New Black Eagle Jazz Band has delighted audiences worldwide with it
 s infectious\, soulful and uplifting style of traditional New Orleans 
 jazz. Read more about the Band at Holy Trinity Lutheran's website.
X-ALT-DESC;FMTTYPE=text/html:<div class=page-restrict-output><p>For ov
 er forty years\, from Symphony Hall to Singapore\, the New Black Eagle
  Jazz Band has delighted audiences worldwide with its infectious\, sou
 lful and uplifting style of traditional New Orleans jazz. <a href=http
 ://holytrinityakron.org/index.php?option=com_content&amp\;view=article
 &amp\;id=275>Read more about the Band at Holy Trinity Lutheran's websi
 te.</a></p>\n</div>
URL:https://akronago.org/events/417/new-black-eagle-jazz-band/?lang=en
ATTACH:https://akronago.org/events/417/new-black-eagle-jazz-band/?lang
 =en
ATTACH:https://akronago.org/wp-content/uploads/NBEJB-logo-150x150.jpg
LOCATION:Holy Trinity Lutheran (Akron)\, 50 North Prospect St\, Akron
END:VEVENT
END:VCALENDAR
