BEGIN:VCALENDAR
VERSION:2.0
METHOD:PUBLISH
PRODID:-//hacksw/handcal//NONSGML v1.0//EN
BEGIN:VEVENT
DTSTAMP:20260423T111829Z
DTSTART:20181207T233000Z
DTEND:20181208T104100Z
UID:20181207T233000Z-20181208T104100Z-416@akronago.org
SUMMARY:Advent Procession of Lessons & Carols
DESCRIPTION:Hear traditional Bible readings for Lessons and Carols: wo
 rds from the prophets and the gospels that move us from darkness to li
 ght\, Advent to Christmas. Choral anthems and congregational songs pun
 ctuate each reading. Music leaders include adult and child/youth vocal
  choirs from St. Sebastian Parish and Holy Trinity Lutheran Church\, b
 oth of Akron. A brass choir\, handbells and other instruments enhance 
 the choral and congregational offerings. Read more about this service 
 on Holy Trinity Lutheran's website.
X-ALT-DESC;FMTTYPE=text/html:<div class=page-restrict-output><p>Hear t
 raditional Bible readings for Lessons and Carols: words from the proph
 ets and the gospels that move us from darkness to light\, Advent to Ch
 ristmas. Choral anthems and congregational songs punctuate each readin
 g. Music leaders include adult and child/youth vocal choirs from St. S
 ebastian Parish and Holy Trinity Lutheran Church\, both of Akron. A br
 ass choir\, handbells and other instruments enhance the choral and con
 gregational offerings. <a href=http://holytrinityakron.org/index.php?o
 ption=com_content&amp\;view=article&amp\;id=116>Read more about this s
 ervice on Holy Trinity Lutheran's website.</a></p>\n</div>
URL:https://akronago.org/events/416/advent-procession-of-lessons-carol
 s/?lang=en
ATTACH:https://akronago.org/events/416/advent-procession-of-lessons-ca
 rols/?lang=en
ATTACH:https://akronago.org/wp-content/uploads/LC_MAT_artwork-150x150.
 jpg
LOCATION:Holy Trinity Lutheran (Akron)\, 50 North Prospect St\, Akron
END:VEVENT
END:VCALENDAR
