BEGIN:VCALENDAR
VERSION:2.0
METHOD:PUBLISH
PRODID:-//hacksw/handcal//NONSGML v1.0//EN
BEGIN:VEVENT
DTSTAMP:20260423T111903Z
DTSTART:20181028T200000Z
DTEND:20181029T103600Z
UID:20181028T200000Z-20181029T103600Z-415@akronago.org
SUMMARY:Baltimore Consort
DESCRIPTION:Founded in 1980 to perform the instrumental music of Shake
 speare’s time\, the Baltimore Consort has explored early English\, Sco
 ttish\, and French popular music\, focusing on the relationship betwee
 n folk and art song and dance. Read more about the Baltimore Consort o
 n Holy Trinity Lutheran's website.
X-ALT-DESC;FMTTYPE=text/html:<div class=page-restrict-output><p>Founde
 d in 1980 to perform the instrumental music of Shakespeare’s time\, th
 e Baltimore Consort has explored early English\, Scottish\, and French
  popular music\, focusing on the relationship between folk and art son
 g and dance. Read more about the Baltimore Consort on <a href=http://h
 olytrinityakron.org/index.php?option=com_content&amp\;view=article&amp
 \;id=273>Holy Trinity Lutheran's website.</a></p>\n</div>
URL:https://akronago.org/events/415/baltimore-consort/?lang=en
ATTACH:https://akronago.org/events/415/baltimore-consort/?lang=en
ATTACH:https://akronago.org/wp-content/uploads/BAL-Photo3-2017-150x150
 .png
LOCATION:Holy Trinity Lutheran (Akron)\, 50 North Prospect St\, Akron
END:VEVENT
END:VCALENDAR
