BEGIN:VCALENDAR
VERSION:2.0
METHOD:PUBLISH
PRODID:-//hacksw/handcal//NONSGML v1.0//EN
BEGIN:VEVENT
DTSTAMP:20260423T111807Z
DTSTART;VALUE=DATE:20181024
DTEND;VALUE=DATE:20181025
UID:20181024T040000Z-20181025T035959Z-414@akronago.org
SUMMARY:Demo & Recital (Robert Myers) on von Beckerath of Trinity Luth
 eran\, Ohio City
DESCRIPTION:Daytrip to Trinity Lutheran Church in Ohio City (Cleveland
 ) where we will see and hear the historic 4-manual Beckerath Organ. \n
 \nRSVP by Friday\, October 19\n\nSchedule:\n\n10:15 a.m. – Meet at Fai
 rlawn Lutheran Church\, 3415 W. Market St. and drive to Trinity Luther
 an\n\n11:15 a.m. – Demonstration of the historic von Beckerath mechani
 cal action organ by church organist Robert Myers\n\n12:15 – 12:45 p.m.
  – Concert of organ music for Reformation\n\n1:00 p.m. – Lunch at Soko
 lowski’s University Inn — https://www.sokolowskis.com — great Polish/G
 erman menu served cafeteria-style. Very reasonable prices.\n\n2:00 p.m
 . – Return to Akron. Arrive at Fairlawn Lutheran c. 2:45 p.m.
X-ALT-DESC;FMTTYPE=text/html:<div class=page-restrict-output><p>Daytri
 p to Trinity Lutheran Church in Ohio City (Cleveland) where we will se
 e and hear the historic 4-manual Beckerath Organ.<span class=Apple-con
 verted-space> </span></p>\n<p><a href=https://akronago.org/rsvp-for-oh
 io-city-day-trip-lunch/><strong>RSVP by Friday\, October 19</strong></
 a></p>\n<p>Schedule:</p>\n<p>10:15 a.m. – Meet at Fairlawn Lutheran Ch
 urch\, 3415 W. Market St. and drive to Trinity Lutheran</p>\n<p>11:15 
 a.m. – Demonstration of the historic von Beckerath mechanical action o
 rgan by church organist Robert Myers</p>\n<p>12:15 – 12:45 p.m. – Conc
 ert of organ music for Reformation</p>\n<p>1:00 p.m. – Lunch at Sokolo
 wski’s University Inn — <a href=https://www.sokolowskis.com>https://ww
 w.sokolowskis.com</a> — great Polish/German menu served cafeteria-styl
 e. Very reasonable prices.</p>\n<p>2:00 p.m. – Return to Akron. Arrive
  at Fairlawn Lutheran c. 2:45 p.m.</p>\n</div>
URL:https://akronago.org/events/414/demo-recital-robert-myers-on-von-b
 eckerath-of-trinity-lutheran-ohio-city/?lang=en
ATTACH:https://akronago.org/events/414/demo-recital-robert-myers-on-vo
 n-beckerath-of-trinity-lutheran-ohio-city/?lang=en
ATTACH:https://akronago.org/wp-content/uploads/von-Beckerath-Trinity-L
 utheran-Ohio-City-150x150.png
LOCATION:Trinity Lutheran (Ohio City)\, 2031 W 30th St\, Cleveland
END:VEVENT
END:VCALENDAR
