BEGIN:VCALENDAR
VERSION:2.0
METHOD:PUBLISH
PRODID:-//hacksw/handcal//NONSGML v1.0//EN
BEGIN:VEVENT
DTSTAMP:20260423T111616Z
DTSTART:20181116T233000Z
DTEND:20181117T010000Z
UID:20181116T233000Z-20181117T010000Z-413@akronago.org
SUMMARY:Hymn Festival with Susan Palo Cherwien and David Cherwien
DESCRIPTION:Hymn Festival: The Spirit of Transformation\nTo read more 
 about the Cherwiens and to see Hymn Festival program leaflet\, visit H
 oly Trinity Lutheran's website: http://holytrinityakron.org/index.php?
 option=com_content&view=article&id=274\n\nAkron AGO Members who wish t
 o sing in the choir or help with the reception\, please RSVP by Octobe
 r 14.
X-ALT-DESC;FMTTYPE=text/html:<div class=page-restrict-output><h3>Hymn 
 Festival: The Spirit of Transformation</h3>\n<p>To read more about the
  Cherwiens and to see Hymn Festival program leaflet\, visit Holy Trini
 ty Lutheran's website: <a href=http://holytrinityakron.org/index.php?o
 ption=com_content&amp\;view=article&amp\;id=274>http://holytrinityakro
 n.org/index.php?option=com_content&amp\;view=article&amp\;id=274</a></
 p>\n<p>Akron AGO Members who wish to sing in the choir or help with th
 e reception\, please <a href=https://akronago.org/cherwein-hymn-festiv
 al-form/>RSVP by October 14.</a></p>\n</div>
URL:https://akronago.org/events/413/hymn-festival-with-susan-palo-cher
 wien-and-david-cherwien/?lang=en
ATTACH:https://akronago.org/events/413/hymn-festival-with-susan-palo-c
 herwien-and-david-cherwien/?lang=en
ATTACH:https://akronago.org/wp-content/uploads/cherwien_tandem-2-150x1
 50.jpg
LOCATION:Holy Trinity Lutheran (Akron)\, 50 North Prospect St\, Akron
END:VEVENT
END:VCALENDAR
