BEGIN:VCALENDAR
VERSION:2.0
METHOD:PUBLISH
PRODID:-//hacksw/handcal//NONSGML v1.0//EN
BEGIN:VEVENT
DTSTAMP:20260423T112008Z
DTSTART:20180923T200000Z
DTEND:20180923T220000Z
UID:20180923T200000Z-20180923T220000Z-412@akronago.org
SUMMARY:Evensong & Dinner at St. Andrew's Episcopal Church
DESCRIPTION:We open our 2018-19 season with a 4:00 p.m. Evensong at St
 . Andrew's Episcopal Church (765 Thayer Street\, Akron) in North Hill.
  Robert Quade will lead the service musically\, with The Rev. Dr. Mich
 ael Petrochuk as officiant. Following the service\, we will have a win
 e & cheese reception followed by dinner in the parish hall.\n\nDinner 
 Menu (RSVP by September 10):\n\nChoice of entrée: Tenderloin of Beef o
 r Spinach & Feta Stuffed Chicken Breast or Vegetarian plate\nBulgarian
  Potatoes\nOrange Ginger Carrots\nGarden Salad\nRolls\nAssorted Pies\n
 Beverages
X-ALT-DESC;FMTTYPE=text/html:<div class=page-restrict-output><p>We ope
 n our 2018-19 season with a 4:00 p.m. Evensong at St. Andrew's Episcop
 al Church (765 Thayer Street\, Akron) in North Hill. Robert Quade will
  lead the service musically\, with The Rev. Dr. Michael Petrochuk as o
 fficiant. Following the service\, we will have a wine &amp\; cheese re
 ception followed by dinner in the parish hall.</p>\n<p>Dinner Menu <a 
 href=https://akronago.org/post-evensong-dinner-rsvp-sept-23-2018/>(RSV
 P by September 10)</a>:</p>\n<p>Choice of entrée: Tenderloin of Beef o
 r Spinach &amp\; Feta Stuffed Chicken Breast or Vegetarian plate<br>\n
 Bulgarian Potatoes<br>\nOrange Ginger Carrots<br>\nGarden Salad<br>\nR
 olls<br>\nAssorted Pies<br>\nBeverages</p>\n</div>
URL:https://akronago.org/events/412/evensong-dinner-at-st-andrews-epis
 copal-church/?lang=en
ATTACH:https://akronago.org/events/412/evensong-dinner-at-st-andrews-e
 piscopal-church/?lang=en
ATTACH:https://akronago.org/wp-content/uploads/churchlrg-150x150.jpg
LOCATION:St Andrew's Episcopal (Akron)\, 765 Thayer St\, Akron
END:VEVENT
END:VCALENDAR
