BEGIN:VCALENDAR
VERSION:2.0
METHOD:PUBLISH
PRODID:-//hacksw/handcal//NONSGML v1.0//EN
BEGIN:VEVENT
DTSTAMP:20260423T111829Z
DTSTART:20180520T220000Z
DTEND:20180520T233000Z
UID:20180520T220000Z-20180520T233000Z-410@akronago.org
SUMMARY:Tom Trenney: Hymn Festival
DESCRIPTION:Hymn Festival led by Tom Trenney featuring the Christ Chur
 ch Chancel Choir\, and also including cello\, flute\, organ\, and pian
 o. Some great new anthems and hymn arrangements will be sung. Come for
  an evening of great music and spiritual renewal.\n\nFree admission\, 
 with free will offering
X-ALT-DESC;FMTTYPE=text/html:<div class=page-restrict-output><p>Hymn F
 estival led by Tom Trenney featuring the Christ Church Chancel Choir\,
  and also including cello\, flute\, organ\, and piano. Some great new 
 anthems and hymn arrangements will be sung. Come for an evening of gre
 at music and spiritual renewal.</p>\n<p>Free admission\, with free wil
 l offering</p>\n</div>
URL:https://akronago.org/events/410/tom-trenney-hymn-festival/?lang=en
ATTACH:https://akronago.org/events/410/tom-trenney-hymn-festival/?lang
 =en
ATTACH:https://akronago.org/wp-content/uploads/trenney-tom-150x150.jpg
LOCATION:Christ Presbyterian (Canton)\, 530 Tuscarawas St W\, Canton
END:VEVENT
END:VCALENDAR
