BEGIN:VCALENDAR
VERSION:2.0
METHOD:PUBLISH
PRODID:-//hacksw/handcal//NONSGML v1.0//EN
BEGIN:VEVENT
DTSTAMP:20260423T111637Z
DTSTART:20110107T230000Z
DTEND:20110107T040000Z
UID:20110107T230000Z-20110107T040000Z-41@akronago.org
SUMMARY:12th Night Bake-Off
DESCRIPTION:You’ve heard of the “Pillsbury Bake-Off\,” so now we have 
 a take-off on the theme with a bake-off of our own. Bring your favorit
 e hors d’oeuvre\, main dish\, or dessert to share. It should be fun ta
 sting and voting for your favorite!
X-ALT-DESC;FMTTYPE=text/html:<div class=page-restrict-output><p>You’ve
  heard of the “Pillsbury Bake-Off\,” so now we have a take-off on the 
 theme with a bake-off of our own. Bring your favorite hors d’oeuvre\, 
 main dish\, or dessert to share. It should be fun tasting and voting f
 or your favorite!</p>\n</div>
URL:https://akronago.org/events/41/12th-night-bake-off/?lang=en
ATTACH:https://akronago.org/events/41/12th-night-bake-off/?lang=en
LOCATION:Home of Bob & Melissa Butler (Suffield)\, 1708 Meander Way\, 
 Suffield
END:VEVENT
END:VCALENDAR
